BEGIN:VCALENDAR
VERSION:2.0
PRODID:-//AudioTheme 2.3.8
BEGIN:VEVENT
UID:urn:uuid:c3c3a5ec-5d8c-4d92-bdb1-54281a4d861f
URL:https://mitchmcvicker.com/concerts/gig-2055/
DTSTART;VALUE=DATE:20090917
SUMMARY:Meridian Christian Church
LOCATION:Meridian Christian Church\, Lansing(Okemos)\, MI
END:VEVENT
END:VCALENDAR
