BEGIN:VCALENDAR
VERSION:2.0
PRODID:-//AudioTheme 2.3.8
BEGIN:VEVENT
UID:urn:uuid:342ec464-4ad9-4373-993d-d0be8bcdcdd3
URL:https://mitchmcvicker.com/concerts/gig-2053/
DTSTART;VALUE=DATE:20090913
SUMMARY:Old North Church
LOCATION:Old North Church\, Youngstown (Canfield)\, OH
END:VEVENT
END:VCALENDAR
