BEGIN:VCALENDAR
VERSION:2.0
PRODID:-//AudioTheme 2.3.8
BEGIN:VEVENT
UID:urn:uuid:2111843a-2e35-40c2-a27c-2adfef917459
URL:https://mitchmcvicker.com/concerts/gig-2052/
DTSTART;VALUE=DATE:20090912
SUMMARY:Followers of Christ Baptist Church
LOCATION:Followers of Christ Baptist Church\, Carlisle\, IN
END:VEVENT
END:VCALENDAR
