BEGIN:VCALENDAR
VERSION:2.0
PRODID:-//AudioTheme 2.3.8
BEGIN:VEVENT
UID:urn:uuid:e7c21b7c-8dac-4d31-aae7-085f8cb649be
URL:https://mitchmcvicker.com/concerts/gig-2050/
DTSTART;VALUE=DATE:20090910
SUMMARY:Vincennes University Campus Christian Fellowship
LOCATION:Vincennes University Campus Christian Fellowship\, Vincennes\, IN
END:VEVENT
END:VCALENDAR
