BEGIN:VCALENDAR
VERSION:2.0
PRODID:-//AudioTheme 2.3.8
BEGIN:VEVENT
UID:urn:uuid:d9413e0b-ade9-4d74-a077-99278027e5ba
URL:https://mitchmcvicker.com/concerts/gig-2048/
DTSTART;VALUE=DATE:20090906
SUMMARY:Concert at Gratisfest Indianna
LOCATION:Concert at Gratisfest Indianna\, Gratisfest\, IN
END:VEVENT
END:VCALENDAR
