BEGIN:VCALENDAR
VERSION:2.0
PRODID:-//AudioTheme 2.3.8
BEGIN:VEVENT
UID:urn:uuid:a054a0a9-5a9c-47bb-8e3e-4ac7724c9a9e
URL:https://mitchmcvicker.com/concerts/gig-2046/
DTSTART;VALUE=DATE:20090819
SUMMARY:Smyrna First United Methodist Church
LOCATION:Smyrna First United Methodist Church\, Smyrna\, GA
END:VEVENT
END:VCALENDAR
