BEGIN:VCALENDAR
VERSION:2.0
PRODID:-//AudioTheme 2.3.8
BEGIN:VEVENT
UID:urn:uuid:e533ff10-96d5-4dc7-bcba-2cdaa8342e56
URL:https://mitchmcvicker.com/concerts/gig-2044/
DTSTART;VALUE=DATE:20090804
SUMMARY:Feast of the Tabernacles 2009
LOCATION:Feast of the Tabernacles 2009\, Hubbardville\, NY
END:VEVENT
END:VCALENDAR
