BEGIN:VCALENDAR
VERSION:2.0
PRODID:-//AudioTheme 2.3.8
BEGIN:VEVENT
UID:urn:uuid:53b20db4-b267-46aa-8cf2-4a477a393162
URL:https://mitchmcvicker.com/concerts/gig-2042/
DTSTART;VALUE=DATE:20090803
SUMMARY:Kingdom Bound Festival
LOCATION:Kingdom Bound Festival\, Darian Lake\, NY
END:VEVENT
END:VCALENDAR
