BEGIN:VCALENDAR
VERSION:2.0
PRODID:-//AudioTheme 2.3.8
BEGIN:VEVENT
UID:urn:uuid:a2161875-e879-4725-ae0c-e378021507d5
URL:https://mitchmcvicker.com/concerts/gig-2040/
DTSTART;VALUE=DATE:20090724
SUMMARY:Bologna Festival-Sponsored by Trinity Missionary Church
LOCATION:Bologna Festival-Sponsored by Trinity Missionary Church\, Yale\, MI
END:VEVENT
END:VCALENDAR
