BEGIN:VCALENDAR
VERSION:2.0
PRODID:-//AudioTheme 2.3.8
BEGIN:VEVENT
UID:urn:uuid:5cd9a185-c4fd-4af2-8b48-808b7f5862d0
URL:https://mitchmcvicker.com/concerts/gig-2039/
DTSTART;VALUE=DATE:20090714
SUMMARY:Indian Creek Baptist Camp
LOCATION:Indian Creek Baptist Camp\, Bedford\, IN
END:VEVENT
END:VCALENDAR
