BEGIN:VCALENDAR
VERSION:2.0
PRODID:-//AudioTheme 2.3.8
BEGIN:VEVENT
UID:urn:uuid:7aad1f6c-055e-43e5-b02c-984aedd737e0
URL:https://mitchmcvicker.com/concerts/gig-2037/
DTSTART;VALUE=DATE:20090712
SUMMARY:Burlilngton United Methodist Church
LOCATION:Burlilngton United Methodist Church\, Burlington\, IL
END:VEVENT
END:VCALENDAR
