BEGIN:VCALENDAR
VERSION:2.0
PRODID:-//AudioTheme 2.3.8
BEGIN:VEVENT
UID:urn:uuid:aa3692bb-733b-4f61-83aa-084c61915678
URL:https://mitchmcvicker.com/concerts/gig-2035/
DTSTART;VALUE=DATE:20090711
SUMMARY:Sycamore United Methodist Church
LOCATION:Sycamore United Methodist Church\, Sycamore\, IL
END:VEVENT
END:VCALENDAR
