BEGIN:VCALENDAR
VERSION:2.0
PRODID:-//AudioTheme 2.3.8
BEGIN:VEVENT
UID:urn:uuid:f89be6aa-7232-4023-ba40-2d2a031559b7
URL:https://mitchmcvicker.com/concerts/gig-2033/
DTSTART;VALUE=DATE:20090710
SUMMARY:LiFest-Sunnyview Fairgrounds
LOCATION:LiFest-Sunnyview Fairgrounds\, OshKosh\, WI
END:VEVENT
END:VCALENDAR
