BEGIN:VCALENDAR
VERSION:2.0
PRODID:-//AudioTheme 2.3.8
BEGIN:VEVENT
UID:urn:uuid:801d03ab-dce0-422e-a51b-fa8231353d93
URL:https://mitchmcvicker.com/concerts/gig-2031/
DTSTART;VALUE=DATE:20090705
SUMMARY:Journey Church
LOCATION:Journey Church\, Rochester\, NH
END:VEVENT
END:VCALENDAR
