BEGIN:VCALENDAR
VERSION:2.0
PRODID:-//AudioTheme 2.3.8
BEGIN:VEVENT
UID:urn:uuid:8a9f82ab-1514-4517-86ba-e453af336972
URL:https://mitchmcvicker.com/concerts/gig-2029/
DTSTART;VALUE=DATE:20090703
SUMMARY:Night Before The 4th Celebration-Rochester Fairground
LOCATION:Night Before The 4th Celebration-Rochester Fairground\, Rochester\, NH
END:VEVENT
END:VCALENDAR
