BEGIN:VCALENDAR
VERSION:2.0
PRODID:-//AudioTheme 2.3.8
BEGIN:VEVENT
UID:urn:uuid:ca836fec-daf9-4035-98dd-559883a14e2c
URL:https://mitchmcvicker.com/concerts/gig-2027/
DTSTART;VALUE=DATE:20090628
SUMMARY:Covington First Church of the Nazarene
LOCATION:Covington First Church of the Nazarene\, Park Hills\, KY
END:VEVENT
END:VCALENDAR
