BEGIN:VCALENDAR
VERSION:2.0
PRODID:-//AudioTheme 2.3.8
BEGIN:VEVENT
UID:urn:uuid:dbea1e5c-bd2f-4ab4-8e56-ace260fb510d
URL:https://mitchmcvicker.com/concerts/gig-2025/
DTSTART;VALUE=DATE:20090626
SUMMARY:Camp Aldersgate-Hosted by Mayfield Church
LOCATION:Camp Aldersgate-Hosted by Mayfield Church\, Carrolltown\, OH
END:VEVENT
END:VCALENDAR
