BEGIN:VCALENDAR
VERSION:2.0
PRODID:-//AudioTheme 2.3.8
BEGIN:VEVENT
UID:urn:uuid:027c13df-0244-420c-ad20-a9bb4d74b9ad
URL:https://mitchmcvicker.com/concerts/gig-2024/
DTSTART;VALUE=DATE:20090624
SUMMARY:Next Step Ministries Community Build Camp
LOCATION:Next Step Ministries Community Build Camp\, Crown Point\, NM
END:VEVENT
END:VCALENDAR
