BEGIN:VCALENDAR
VERSION:2.0
PRODID:-//AudioTheme 2.3.8
BEGIN:VEVENT
UID:urn:uuid:c2c3841b-da43-4314-8765-93ff1304548a
URL:https://mitchmcvicker.com/concerts/gig-2022/
DTSTART;VALUE=DATE:20090609
SUMMARY:Faith United Methodist Church
LOCATION:Faith United Methodist Church\, Cartersville\, GA
END:VEVENT
END:VCALENDAR
