BEGIN:VCALENDAR
VERSION:2.0
PRODID:-//AudioTheme 2.3.8
BEGIN:VEVENT
UID:urn:uuid:cb657c3e-8d85-47fa-930f-c4dd0b7500c2
URL:https://mitchmcvicker.com/concerts/gig-2019/
DTSTART;VALUE=DATE:20090531
SUMMARY:Andover United Methodist Church
LOCATION:Andover United Methodist Church\, Andover\, KS
END:VEVENT
END:VCALENDAR
