BEGIN:VCALENDAR
VERSION:2.0
PRODID:-//AudioTheme 2.3.8
BEGIN:VEVENT
UID:urn:uuid:1edb07ff-b68d-40a5-9a75-0b9fd499b146
URL:https://mitchmcvicker.com/concerts/gig-2017/
DTSTART;VALUE=DATE:20090531
SUMMARY:Woodland Lakes Community Church
LOCATION:Woodland Lakes Community Church\, Wichita\, KS
END:VEVENT
END:VCALENDAR
