BEGIN:VCALENDAR
VERSION:2.0
PRODID:-//AudioTheme 2.3.8
BEGIN:VEVENT
UID:urn:uuid:c62d09d2-e414-4034-a153-5b8d92c30a83
URL:https://mitchmcvicker.com/concerts/gig-2016/
DTSTART;VALUE=DATE:20090529
SUMMARY:Middle River Friends Church
LOCATION:Middle River Friends Church\, 4057 S23 Hwy\, Carlisle\, IA\, 50047
END:VEVENT
END:VCALENDAR
