BEGIN:VCALENDAR
VERSION:2.0
PRODID:-//AudioTheme 2.3.8
BEGIN:VEVENT
UID:urn:uuid:cccd85c0-676f-4331-bf29-96b3c451afd6
URL:https://mitchmcvicker.com/concerts/gig-2012/
DTSTART;VALUE=DATE:20090517
SUMMARY:Russell Springs Christian Church
LOCATION:Russell Springs Christian Church\, Russell Springs\, KY
END:VEVENT
END:VCALENDAR
