BEGIN:VCALENDAR
VERSION:2.0
PRODID:-//AudioTheme 2.3.8
BEGIN:VEVENT
UID:urn:uuid:69e52d56-7890-445f-b013-2056ff2093b1
URL:https://mitchmcvicker.com/concerts/gig-2011/
DTSTART;VALUE=DATE:20090516
SUMMARY:Plum Creek Christian Church
LOCATION:Plum Creek Christian Church\, Butler\, KY
END:VEVENT
END:VCALENDAR
