BEGIN:VCALENDAR
VERSION:2.0
PRODID:-//AudioTheme 2.3.8
BEGIN:VEVENT
UID:urn:uuid:0231e77f-ab2e-4cb2-8be6-cc8f1e9233f6
URL:https://mitchmcvicker.com/concerts/gig-2009/
DTSTART;VALUE=DATE:20090515
SUMMARY:Southwest Lutheran Church
LOCATION:Southwest Lutheran Church\, Fort Wayne\, IN
END:VEVENT
END:VCALENDAR
