BEGIN:VCALENDAR
VERSION:2.0
PRODID:-//AudioTheme 2.3.8
BEGIN:VEVENT
UID:urn:uuid:d67254cf-3623-4064-a4a5-8f171f429e5d
URL:https://mitchmcvicker.com/concerts/gig-2007/
DTSTART;VALUE=DATE:20090514
SUMMARY:Maple City Baptist Coffee Shop
LOCATION:Maple City Baptist Coffee Shop\, Monmouth\, IL
END:VEVENT
END:VCALENDAR
