BEGIN:VCALENDAR
VERSION:2.0
PRODID:-//AudioTheme 2.3.8
BEGIN:VEVENT
UID:urn:uuid:46f9c2b6-3923-4452-a244-d9ab92d1ee5e
URL:https://mitchmcvicker.com/concerts/gig-2006/
DTSTART;VALUE=DATE:20090513
SUMMARY:First Friends Church
LOCATION:First Friends Church\, Marshalltown\, IA
END:VEVENT
END:VCALENDAR
