BEGIN:VCALENDAR
VERSION:2.0
PRODID:-//AudioTheme 2.3.8
BEGIN:VEVENT
UID:urn:uuid:6af5fb1a-d110-4a5d-ac51-6702abc1dc18
URL:https://mitchmcvicker.com/concerts/gig-2005/
DTSTART;VALUE=DATE:20090503
SUMMARY:Bascomb United Methodist Church
LOCATION:Bascomb United Methodist Church\, Woodstock\, GA
END:VEVENT
END:VCALENDAR
