BEGIN:VCALENDAR
VERSION:2.0
PRODID:-//AudioTheme 2.3.8
BEGIN:VEVENT
UID:urn:uuid:6692ab04-8488-4654-8d42-9523710915cc
URL:https://mitchmcvicker.com/concerts/gig-2003/
DTSTART;VALUE=DATE:20090502
SUMMARY:Acoustic Jeremiah The Chapel
LOCATION:Acoustic Jeremiah The Chapel\, Canton\, GA
END:VEVENT
END:VCALENDAR
