BEGIN:VCALENDAR
VERSION:2.0
PRODID:-//AudioTheme 2.3.8
BEGIN:VEVENT
UID:urn:uuid:efc070dd-5bd0-496a-ad10-0bfdd9caf184
URL:https://mitchmcvicker.com/concerts/gig-2001/
DTSTART;VALUE=DATE:20090501
SUMMARY:Aromas Coffeehouse
LOCATION:Aromas Coffeehouse\, Raleigh\, NC
END:VEVENT
END:VCALENDAR
