BEGIN:VCALENDAR
VERSION:2.0
PRODID:-//AudioTheme 2.3.8
BEGIN:VEVENT
UID:urn:uuid:ea0be333-f21b-44ed-acb2-55a9ce27efaf
URL:https://mitchmcvicker.com/concerts/gig-1999/
DTSTART;VALUE=DATE:20090430
SUMMARY:North Ridge Church
LOCATION:North Ridge Church\, Ashboro\, NC
END:VEVENT
END:VCALENDAR
