BEGIN:VCALENDAR
VERSION:2.0
PRODID:-//AudioTheme 2.3.8
BEGIN:VEVENT
UID:urn:uuid:afd991b4-4874-4de0-b8d9-f7174e4097db
URL:https://mitchmcvicker.com/concerts/gig-1998/
DTSTART;VALUE=DATE:20090429
SUMMARY:Oakwood Forest Christian Church
LOCATION:Oakwood Forest Christian Church\, Kingsport\, TN
END:VEVENT
END:VCALENDAR
