BEGIN:VCALENDAR
VERSION:2.0
PRODID:-//AudioTheme 2.3.8
BEGIN:VEVENT
UID:urn:uuid:edd25086-d15e-4ac3-a6c3-54107cfd8d7a
URL:https://mitchmcvicker.com/concerts/gig-1996/
DTSTART;VALUE=DATE:20090425
SUMMARY:Capital Bible Church
LOCATION:Capital Bible Church\, Harrisburg\, PA
END:VEVENT
END:VCALENDAR
