BEGIN:VCALENDAR
VERSION:2.0
PRODID:-//AudioTheme 2.3.8
BEGIN:VEVENT
UID:urn:uuid:899cca37-402c-4e57-aea7-90c4c222b5ae
URL:https://mitchmcvicker.com/concerts/gig-1994/
DTSTART;VALUE=DATE:20090424
SUMMARY:Old Wellman Theater
LOCATION:Old Wellman Theater\, Girard\, OH
END:VEVENT
END:VCALENDAR
