BEGIN:VCALENDAR
VERSION:2.0
PRODID:-//AudioTheme 2.3.8
BEGIN:VEVENT
UID:urn:uuid:fc76ae20-a74c-442f-b7d5-cd524cacc0ef
URL:https://mitchmcvicker.com/concerts/gig-1992/
DTSTART;VALUE=DATE:20090423
SUMMARY:Holy Trinity Church
LOCATION:Holy Trinity Church\, Dunkirk\, NY
END:VEVENT
END:VCALENDAR
