BEGIN:VCALENDAR
VERSION:2.0
PRODID:-//AudioTheme 2.3.8
BEGIN:VEVENT
UID:urn:uuid:5c3ede69-9479-4892-b628-8e59abf74688
URL:https://mitchmcvicker.com/concerts/gig-1990/
DTSTART;VALUE=DATE:20090419
SUMMARY:Willow Street Mennonite Church
LOCATION:Willow Street Mennonite Church\, Willow Street\, PA
END:VEVENT
END:VCALENDAR
