BEGIN:VCALENDAR
VERSION:2.0
PRODID:-//AudioTheme 2.3.8
BEGIN:VEVENT
UID:urn:uuid:4759c96e-d66e-4d4e-92cc-437c62db3b8b
URL:https://mitchmcvicker.com/concerts/gig-1989/
DTSTART;VALUE=DATE:20090418
SUMMARY:Community Coffeehouse
LOCATION:Community Coffeehouse\, 7 Madison Ave\, Danbury\, CT\, 06810
END:VEVENT
END:VCALENDAR
