BEGIN:VCALENDAR
VERSION:2.0
PRODID:-//AudioTheme 2.3.8
BEGIN:VEVENT
UID:urn:uuid:181f4354-fd5f-4cb7-981c-b8e1461ef644
URL:https://mitchmcvicker.com/concerts/gig-1987/
DTSTART;VALUE=DATE:20090417
SUMMARY:The Message Room in Ella Bella's Cafe
LOCATION:The Message Room in Ella Bella's Cafe\, Rochester\, NH
END:VEVENT
END:VCALENDAR
