BEGIN:VCALENDAR
VERSION:2.0
PRODID:-//AudioTheme 2.3.8
BEGIN:VEVENT
UID:urn:uuid:d15bc00e-ee1b-4757-a4fe-051c91e61ee7
URL:https://mitchmcvicker.com/concerts/gig-1986/
DTSTART;VALUE=DATE:20090416
SUMMARY:Oxford Advent Christian Church
LOCATION:Oxford Advent Christian Church\, Oxford\, ME
END:VEVENT
END:VCALENDAR
