BEGIN:VCALENDAR
VERSION:2.0
PRODID:-//AudioTheme 2.3.8
BEGIN:VEVENT
UID:urn:uuid:596e1b8d-f8c4-4087-b737-0b2621ec20b6
URL:https://mitchmcvicker.com/concerts/gig-1985/
DTSTART;VALUE=DATE:20090405
SUMMARY:Community of Life Church
LOCATION:Community of Life Church\, Oregon\, WI
END:VEVENT
END:VCALENDAR
