BEGIN:VCALENDAR
VERSION:2.0
PRODID:-//AudioTheme 2.3.8
BEGIN:VEVENT
UID:urn:uuid:b15168d5-618b-443f-bcfb-db23246f6a33
URL:https://mitchmcvicker.com/concerts/gig-1982/
DTSTART;VALUE=DATE:20090403
SUMMARY:Vincennes University Campus Christian Fellowship
LOCATION:Vincennes University Campus Christian Fellowship\, Vincennes\, IN
END:VEVENT
END:VCALENDAR
