BEGIN:VCALENDAR
VERSION:2.0
PRODID:-//AudioTheme 2.3.8
BEGIN:VEVENT
UID:urn:uuid:9361aa44-0bac-4904-99fe-329477567d13
URL:https://mitchmcvicker.com/concerts/gig-1980/
DTSTART;VALUE=DATE:20090329
SUMMARY:Horizon Community Church
LOCATION:Horizon Community Church\, Highlands Ranch\, CO
END:VEVENT
END:VCALENDAR
