BEGIN:VCALENDAR
VERSION:2.0
PRODID:-//AudioTheme 2.3.8
BEGIN:VEVENT
UID:urn:uuid:2825a424-0a64-4ed8-8493-a6c86a4b7007
URL:https://mitchmcvicker.com/concerts/gig-1978/
DTSTART;VALUE=DATE:20090328
SUMMARY:Everday Joe's Coffeehouse
LOCATION:Everday Joe's Coffeehouse\, Ft. Collins\, CO
END:VEVENT
END:VCALENDAR
