BEGIN:VCALENDAR
VERSION:2.0
PRODID:-//AudioTheme 2.3.8
BEGIN:VEVENT
UID:urn:uuid:ad685d9e-b634-4f48-8fc4-7ac061741a97
URL:https://mitchmcvicker.com/concerts/gig-1976/
DTSTART;VALUE=DATE:20090315
SUMMARY:Peoria Church of the Brethren
LOCATION:Peoria Church of the Brethren\, Peoria\, IL
END:VEVENT
END:VCALENDAR
