BEGIN:VCALENDAR
VERSION:2.0
PRODID:-//AudioTheme 2.3.8
BEGIN:VEVENT
UID:urn:uuid:7d56ba25-c78f-4709-8cf8-4be349da696e
URL:https://mitchmcvicker.com/concerts/gig-1975/
DTSTART;VALUE=DATE:20090314
SUMMARY:Grace Community Church
LOCATION:Grace Community Church\, Mt. Vernon\, MO
END:VEVENT
END:VCALENDAR
