BEGIN:VCALENDAR
VERSION:2.0
PRODID:-//AudioTheme 2.3.8
BEGIN:VEVENT
UID:urn:uuid:1ec58656-6efc-463e-8d94-2a7cd4140d41
URL:https://mitchmcvicker.com/concerts/gig-1974/
DTSTART;VALUE=DATE:20090313
SUMMARY:Parkview Church of the Nazarene
LOCATION:Parkview Church of the Nazarene\, Nashville\, IN
END:VEVENT
END:VCALENDAR
