BEGIN:VCALENDAR
VERSION:2.0
PRODID:-//AudioTheme 2.3.8
BEGIN:VEVENT
UID:urn:uuid:8ed0ba72-c32f-43ee-88a9-3c8bc192ba9a
URL:https://mitchmcvicker.com/concerts/gig-1972/
DTSTART;VALUE=DATE:20090307
SUMMARY:Great Plains Theatre
LOCATION:Great Plains Theatre\, Abilene\, KS
END:VEVENT
END:VCALENDAR
