BEGIN:VCALENDAR
VERSION:2.0
PRODID:-//AudioTheme 2.3.8
BEGIN:VEVENT
UID:urn:uuid:406c565f-52d1-4bad-8ed7-49a94a100123
URL:https://mitchmcvicker.com/concerts/gig-1970/
DTSTART;VALUE=DATE:20090306
SUMMARY:First United Methodist Church of Trenton
LOCATION:First United Methodist Church of Trenton\, Trenton\, TX
END:VEVENT
END:VCALENDAR
