BEGIN:VCALENDAR
VERSION:2.0
PRODID:-//AudioTheme 2.3.8
BEGIN:VEVENT
UID:urn:uuid:bd58b4fe-ba0b-416e-82a7-ab1828225481
URL:https://mitchmcvicker.com/concerts/gig-1969/
DTSTART;VALUE=DATE:20090301
SUMMARY:New Covenant Bible Church
LOCATION:New Covenant Bible Church\, Cedar Rapids\, IA
END:VEVENT
END:VCALENDAR
