BEGIN:VCALENDAR
VERSION:2.0
PRODID:-//AudioTheme 2.3.8
BEGIN:VEVENT
UID:urn:uuid:b9c33b81-c428-4afc-967f-4ad8e903488c
URL:https://mitchmcvicker.com/concerts/gig-1968/
DTSTART;VALUE=DATE:20090228
SUMMARY:Second Saturday Sing/Barn Again Farm
LOCATION:Second Saturday Sing/Barn Again Farm\, Elgin\, IL
END:VEVENT
END:VCALENDAR
